BEGIN:VCALENDAR
VERSION:2.0
PRODID:-//Les Oreillons des Murs - ECPv6.15.18//NONSGML v1.0//EN
CALSCALE:GREGORIAN
METHOD:PUBLISH
X-WR-CALNAME:Les Oreillons des Murs
X-ORIGINAL-URL:https://lesoreillonsdesmurs.fr
X-WR-CALDESC:Évènements pour Les Oreillons des Murs
REFRESH-INTERVAL;VALUE=DURATION:PT1H
X-Robots-Tag:noindex
X-PUBLISHED-TTL:PT1H
BEGIN:VTIMEZONE
TZID:Europe/Paris
BEGIN:DAYLIGHT
TZOFFSETFROM:+0100
TZOFFSETTO:+0200
TZNAME:CEST
DTSTART:20240331T010000
END:DAYLIGHT
BEGIN:STANDARD
TZOFFSETFROM:+0200
TZOFFSETTO:+0100
TZNAME:CET
DTSTART:20241027T010000
END:STANDARD
BEGIN:DAYLIGHT
TZOFFSETFROM:+0100
TZOFFSETTO:+0200
TZNAME:CEST
DTSTART:20250330T010000
END:DAYLIGHT
BEGIN:STANDARD
TZOFFSETFROM:+0200
TZOFFSETTO:+0100
TZNAME:CET
DTSTART:20251026T010000
END:STANDARD
BEGIN:DAYLIGHT
TZOFFSETFROM:+0100
TZOFFSETTO:+0200
TZNAME:CEST
DTSTART:20260329T010000
END:DAYLIGHT
BEGIN:STANDARD
TZOFFSETFROM:+0200
TZOFFSETTO:+0100
TZNAME:CET
DTSTART:20261025T010000
END:STANDARD
END:VTIMEZONE
BEGIN:VEVENT
DTSTART;TZID=Europe/Paris:20250918T203000
DTEND;TZID=Europe/Paris:20250918T213000
DTSTAMP:20260422T200512
CREATED:20250902T220739Z
LAST-MODIFIED:20250905T091843Z
UID:688923-1758227400-1758231000@lesoreillonsdesmurs.fr
SUMMARY:Veronika W / concert solo
DESCRIPTION:Veronika W propose un répertoire de chants traditionnels des Balkans et d’Europe du Sud\, avec quelques détours par l’Amérique Latine…Le voyage auquel elle convie notre imaginaire est aussi instrumental\, accompagné par des flûtes kaval\, un violon bulgare\, quelques percussions… Sa voix nous guide par-delà les frontières\, dans les imaginaires d’autres peuples et d’autres cultures … 
URL:https://lesoreillonsdesmurs.fr/event/veronika-w-concert-solo/
ATTACH;FMTTYPE=image/png:https://lesoreillonsdesmurs.fr/wp-content/uploads/2025/09/visuel-verosolo-2025.png
END:VEVENT
END:VCALENDAR