BEGIN:VCALENDAR
VERSION:2.0
PRODID:-//Les Oreillons des Murs - ECPv6.15.18//NONSGML v1.0//EN
CALSCALE:GREGORIAN
METHOD:PUBLISH
X-WR-CALNAME:Les Oreillons des Murs
X-ORIGINAL-URL:https://lesoreillonsdesmurs.fr
X-WR-CALDESC:Évènements pour Les Oreillons des Murs
REFRESH-INTERVAL;VALUE=DURATION:PT1H
X-Robots-Tag:noindex
X-PUBLISHED-TTL:PT1H
BEGIN:VTIMEZONE
TZID:Europe/Paris
BEGIN:DAYLIGHT
TZOFFSETFROM:+0100
TZOFFSETTO:+0200
TZNAME:CEST
DTSTART:20240331T010000
END:DAYLIGHT
BEGIN:STANDARD
TZOFFSETFROM:+0200
TZOFFSETTO:+0100
TZNAME:CET
DTSTART:20241027T010000
END:STANDARD
BEGIN:DAYLIGHT
TZOFFSETFROM:+0100
TZOFFSETTO:+0200
TZNAME:CEST
DTSTART:20250330T010000
END:DAYLIGHT
BEGIN:STANDARD
TZOFFSETFROM:+0200
TZOFFSETTO:+0100
TZNAME:CET
DTSTART:20251026T010000
END:STANDARD
BEGIN:DAYLIGHT
TZOFFSETFROM:+0100
TZOFFSETTO:+0200
TZNAME:CEST
DTSTART:20260329T010000
END:DAYLIGHT
BEGIN:STANDARD
TZOFFSETFROM:+0200
TZOFFSETTO:+0100
TZNAME:CET
DTSTART:20261025T010000
END:STANDARD
END:VTIMEZONE
BEGIN:VEVENT
DTSTART;TZID=Europe/Paris:20250916T190000
DTEND;TZID=Europe/Paris:20250916T200000
DTSTAMP:20260422T033432
CREATED:20250902T215925Z
LAST-MODIFIED:20250902T215925Z
UID:688782-1758049200-1758052800@lesoreillonsdesmurs.fr
SUMMARY:AlulA / concert
DESCRIPTION:Concert intimiste chez l’habitant (1h15 environ) \nAlulA\, ce sont deux voix féminines qui chantent\, jouent\, dansent et font danser. Leurs sources d’inspiration viennent des répertoires traditionnels locaux et lointains. Elles aiment battre des pieds\, des mains\, des ailes et surtout\, le partager ! Elles assument pleinement leur part animale dans la jubilation musicale et\, telles les Oiseaux de Passage\, elles survolent au long cours les territoires humains… Elles ont dans leur besace\, pour habiller les chants\, un accordéon diatonique\, des flûtes traditionnelles et beaucoup de percussions\, sur cadre et sur corps !\nAvec Perrine Dulac (chant\, accordéon) et Veronika Warkentin\, chant kaval\, gadulka\, percussions)
URL:https://lesoreillonsdesmurs.fr/event/alula-concert-3/
LOCATION:Bouguenais\, 44340\, France
CATEGORIES:Concert tout public
ATTACH;FMTTYPE=image/jpeg:https://lesoreillonsdesmurs.fr/wp-content/uploads/2025/08/518281781_2634779580186548_2689051911547801332_n.jpg
END:VEVENT
END:VCALENDAR